BEGIN:VCALENDAR
VERSION:2.0
PRODID:icalendar-ruby
CALSCALE:GREGORIAN
METHOD:PUBLISH
BEGIN:VEVENT
DTSTAMP:20260423T112135Z
UID:21-267700@mountforestpc.ca
DTSTART:20261004T140000Z
DTEND:20261004T160000Z
CLASS:PUBLIC
CREATED:20260422T222649
DESCRIPTION:Looking for a place to start your week with encouragement and h
 ope?\nJoin us this Sunday for worship  - there’s room for you here. \nC
 ome in person and experience community\, or if you’re not able to make i
 t\, you can watch live from wherever you are.\nStream directly here from o
 ur website or join us on YouTube or Facebook.\nHowever you connect\, we’
 d love to have you with us.
LAST-MODIFIED:20260422T222649
LOCATION:259 Fergus St.
SUMMARY:Sunday @MFP.CHURCH
URL;VALUE=URI:https://www.mountforestpc.ca/events/sunday-mfp-church/2026-10
 -04
ATTACH;FILENAME=IMG_1846.JPG;FMTTYPE=image/jpeg:https://dq5pwpg1q8ru0.cloud
 front.net/2025/09/29/13/49/42/850e2da5-e6dd-46b7-bc52-318dd1ef36a9/IMG_184
 6.JPG
END:VEVENT
END:VCALENDAR
